BEGIN:VCALENDAR
VERSION:2.0
PRODID:-//Tukios.com/
BEGIN:VEVENT
UID:796866d2-7d34-46f8-936c-b61e6bac3186@www.innisfilfuneralhome.com
DTSTAMP:20260423T001447Z
DTSTART:20260501T180000Z
DTEND:20260501T200000Z
SUMMARY:First Visitation
DESCRIPTION:
URL:https://www.innisfilfuneralhome.com/obituaries/reanice-allen
LOCATION: 7910 Yonge Street  Innisfil ON L9S1L5
GEO:44.3251437;-79.6200857
END:VEVENT
END:VCALENDAR