BEGIN:VCALENDAR
VERSION:2.0
PRODID:-//Tukios.com/
BEGIN:VEVENT
UID:39cfa252-70f9-4147-90ce-4ee65bf64edd@www.innisfilfuneralhome.com
DTSTAMP:20260423T000553Z
DTSTART:20260501T220000Z
DTEND:20260502T000000Z
SUMMARY:Second Visitation
DESCRIPTION:
URL:https://www.innisfilfuneralhome.com/obituaries/reanice-allen
LOCATION: 7910 Yonge Street  Innisfil ON L9S1L5
GEO:44.3251437;-79.6200857
END:VEVENT
END:VCALENDAR