BEGIN:VCALENDAR
VERSION:2.0
PRODID:-//Tukios.com/
BEGIN:VEVENT
UID:273267c7-f30b-4024-a97b-0918e8e2d750@www.innisfilfuneralhome.com
DTSTAMP:20260423T000718Z
DTSTART:20260502T140000Z
DTEND:20260502T150000Z
SUMMARY:Funeral Service
DESCRIPTION:
URL:https://www.innisfilfuneralhome.com/obituaries/reanice-allen
LOCATION:St. John Vianney's Parish 13 Baldwin Lane  Barrie ON L4N 2W1
GEO:44.3675693;-79.6915669
END:VEVENT
END:VCALENDAR