BEGIN:VCALENDAR
VERSION:2.0
PRODID:-//Tukios.com/
BEGIN:VEVENT
UID:5101e31d-7d6e-4d63-9a2c-92e35cbd22a8@www.innisfilfuneralhome.com
DTSTAMP:20260423T000119Z
DTSTART:20260502T150000Z
DTEND:20260502T160000Z
SUMMARY:Final Resting Place
DESCRIPTION:
URL:https://www.innisfilfuneralhome.com/obituaries/reanice-allen
LOCATION: 208 Sunnidale Road  Barrie ON L4N 5N9
GEO:44.3967887;-79.7106051
END:VEVENT
END:VCALENDAR