BEGIN:VCALENDAR
VERSION:2.0
PRODID:-//Tukios.com/
BEGIN:VEVENT
UID:16c58241-14a4-4870-adb4-e0478fec279f@www.innisfilfuneralhome.com
DTSTAMP:20260423T000422Z
DTSTART:20260502T150000Z
DTEND:20260502T160000Z
SUMMARY:Reception
DESCRIPTION:Those who do not wish to join the family at the cemetery are 
	welcome to make their way back to the funeral home for a refreshment 
	until the family arrives back.
URL:https://www.innisfilfuneralhome.com/obituaries/reanice-allen
LOCATION: 7910 Yonge Street  Innisfil ON L9S1L5
GEO:44.3251437;-79.6200857
END:VEVENT
END:VCALENDAR